BEGIN:VCALENDAR
VERSION:2.0
PRODID:-//Ma valise Ecolo - ECPv5.5.0//NONSGML v1.0//EN
CALSCALE:GREGORIAN
METHOD:PUBLISH
X-WR-CALNAME:Ma valise Ecolo
X-ORIGINAL-URL:https://mavaliseecolo.com
X-WR-CALDESC:évènements pour Ma valise Ecolo
BEGIN:VTIMEZONE
TZID:Europe/Paris
BEGIN:DAYLIGHT
TZOFFSETFROM:+0100
TZOFFSETTO:+0200
TZNAME:CEST
DTSTART:20250330T010000
END:DAYLIGHT
BEGIN:STANDARD
TZOFFSETFROM:+0200
TZOFFSETTO:+0100
TZNAME:CET
DTSTART:20251026T010000
END:STANDARD
END:VTIMEZONE
BEGIN:VEVENT
DTSTART;VALUE=DATE:20250222
DTEND;VALUE=DATE:20250223
DTSTAMP:20260419T164649
CREATED:20250122T161431Z
LAST-MODIFIED:20250122T161431Z
UID:2570-1740182400-1740268799@mavaliseecolo.com
SUMMARY:Fabrication de produits ménagers (1)
DESCRIPTION:deux jours à Poitiers les samedis 22 février et 22 mars 9h à 17h \nsur la fabrication des produits ménagers
URL:https://mavaliseecolo.com/evenement/fabrication-de-produits-menagers-1/
CATEGORIES:Formation continue asmats
ATTACH;FMTTYPE=image/png:https://mavaliseecolo.com/wp-content/uploads/2023/03/fiche-iperia-2.png
END:VEVENT
END:VCALENDAR