BEGIN:VCALENDAR
VERSION:2.0
PRODID:-//Ma valise Ecolo - ECPv5.5.0//NONSGML v1.0//EN
CALSCALE:GREGORIAN
METHOD:PUBLISH
X-WR-CALNAME:Ma valise Ecolo
X-ORIGINAL-URL:https://mavaliseecolo.com
X-WR-CALDESC:évènements pour Ma valise Ecolo
BEGIN:VTIMEZONE
TZID:Europe/Paris
BEGIN:DAYLIGHT
TZOFFSETFROM:+0100
TZOFFSETTO:+0200
TZNAME:CEST
DTSTART:20250330T010000
END:DAYLIGHT
BEGIN:STANDARD
TZOFFSETFROM:+0200
TZOFFSETTO:+0100
TZNAME:CET
DTSTART:20251026T010000
END:STANDARD
END:VTIMEZONE
BEGIN:VEVENT
DTSTART;TZID=Europe/Paris:20250111T090000
DTEND;TZID=Europe/Paris:20250111T170000
DTSTAMP:20260419T181640
CREATED:20241125T152510Z
LAST-MODIFIED:20241125T152510Z
UID:2545-1736586000-1736614800@mavaliseecolo.com
SUMMARY:Construire son projet d'accueil
DESCRIPTION:Construire son projet d’accueil à Naintré \nles samedis 11 janvier et 1 février 2025 avec Karine \n3ème journée informatique avec Aurélian le samedi 15 mars  2025 à salle informatique de Saint-Benoît \nFormation IPERIA rémunérée\, kms et repas pris en charge
URL:https://mavaliseecolo.com/evenement/construire-son-projet-daccueil-9/
LOCATION:Naintré
CATEGORIES:Formation continue asmats
ATTACH;FMTTYPE=image/png:https://mavaliseecolo.com/wp-content/uploads/2023/03/fiche-iperia-livret-daccueil.png
END:VEVENT
END:VCALENDAR