BEGIN:VCALENDAR
VERSION:2.0
PRODID:-//Ma valise Ecolo - ECPv5.5.0//NONSGML v1.0//EN
CALSCALE:GREGORIAN
METHOD:PUBLISH
X-WR-CALNAME:Ma valise Ecolo
X-ORIGINAL-URL:https://mavaliseecolo.com
X-WR-CALDESC:évènements pour Ma valise Ecolo
BEGIN:VTIMEZONE
TZID:Europe/Paris
BEGIN:DAYLIGHT
TZOFFSETFROM:+0100
TZOFFSETTO:+0200
TZNAME:CEST
DTSTART:20240331T010000
END:DAYLIGHT
BEGIN:STANDARD
TZOFFSETFROM:+0200
TZOFFSETTO:+0100
TZNAME:CET
DTSTART:20241027T010000
END:STANDARD
END:VTIMEZONE
BEGIN:VEVENT
DTSTART;VALUE=DATE:20241125
DTEND;VALUE=DATE:20241126
DTSTAMP:20260419T201334
CREATED:20231104T085544Z
LAST-MODIFIED:20231104T085544Z
UID:2460-1732492800-1732579199@mavaliseecolo.com
SUMMARY:État de santé de l’enfant : les bonnes pratiques
DESCRIPTION:Formation continue IPERIA pour les assmats  Lundi 25 novembre et lundi 9 décembre    lieu à définir \n« État de santé de l’enfant : les bonnes pratiques » \nFormation rémunérée \nrenseignements et inscription \nSylvan Formations centre de formations \n0546551470 contact@sylvan-larochelle.com \nou auprès de moi mème Karine 0608615377
URL:https://mavaliseecolo.com/evenement/etat-de-sante-de-lenfant-les-bonnes-pratiques-5/
CATEGORIES:Formation continue asmats
ATTACH;FMTTYPE=image/png:https://mavaliseecolo.com/wp-content/uploads/2023/03/Fiche-IPERIA.png
END:VEVENT
BEGIN:VEVENT
DTSTART;TZID=Europe/Paris:20241125T080000
DTEND;TZID=Europe/Paris:20241125T170000
DTSTAMP:20260419T201334
CREATED:20241125T153938Z
LAST-MODIFIED:20241125T153938Z
UID:2547-1732521600-1732554000@mavaliseecolo.com
SUMMARY:Construire son projet d'accueil
DESCRIPTION:Suite de la formation à Naintré les samedis 11 janvier et 1 février 2025 \nainsi que la 3ème journée salle informatique à Saint-Benoît le samedi 15 mars 2025
URL:https://mavaliseecolo.com/evenement/construire-son-projet-daccueil-17/
CATEGORIES:Formation continue asmats
ATTACH;FMTTYPE=image/png:https://mavaliseecolo.com/wp-content/uploads/2023/03/fiche-iperia-livret-daccueil.png
END:VEVENT
END:VCALENDAR