BEGIN:VCALENDAR
VERSION:2.0
PRODID:-//Ma valise Ecolo - ECPv5.5.0//NONSGML v1.0//EN
CALSCALE:GREGORIAN
METHOD:PUBLISH
X-WR-CALNAME:Ma valise Ecolo
X-ORIGINAL-URL:https://mavaliseecolo.com
X-WR-CALDESC:évènements pour Ma valise Ecolo
BEGIN:VTIMEZONE
TZID:Europe/Paris
BEGIN:DAYLIGHT
TZOFFSETFROM:+0100
TZOFFSETTO:+0200
TZNAME:CEST
DTSTART:20240331T010000
END:DAYLIGHT
BEGIN:STANDARD
TZOFFSETFROM:+0200
TZOFFSETTO:+0100
TZNAME:CET
DTSTART:20241027T010000
END:STANDARD
END:VTIMEZONE
BEGIN:VEVENT
DTSTART;VALUE=DATE:20241014
DTEND;VALUE=DATE:20241015
DTSTAMP:20260419T231810
CREATED:20231104T093200Z
LAST-MODIFIED:20231104T093200Z
UID:2469-1728864000-1728950399@mavaliseecolo.com
SUMMARY:Droits et devoirs dans l'exercice de son métier
DESCRIPTION:Formation continue de 21h pour assistants maternels rémunérée par IPERIA \nDroits et devoirs dans l’exercice de son métier  Lundi 30 septembre\, lundi 14 octobre et lundi 4 novembre \nlieu à déterminer \npour s’inscrire auprès de \n0546551470 contact@sylvan-larochelle.com \nou auprès de moi mème Karine 0608615377 mavaliseecolo@gmail.com
URL:https://mavaliseecolo.com/evenement/droits-et-devoirs-dans-lexercice-de-son-metier-2/
CATEGORIES:Formation continue asmats
ATTACH;FMTTYPE=image/png:https://mavaliseecolo.com/wp-content/uploads/2023/03/Fiche-iperia-1-1.png
END:VEVENT
END:VCALENDAR