BEGIN:VCALENDAR
VERSION:2.0
PRODID:-//Ma valise Ecolo - ECPv5.5.0//NONSGML v1.0//EN
CALSCALE:GREGORIAN
METHOD:PUBLISH
X-WR-CALNAME:Ma valise Ecolo
X-ORIGINAL-URL:https://mavaliseecolo.com
X-WR-CALDESC:évènements pour Ma valise Ecolo
BEGIN:VTIMEZONE
TZID:Europe/Paris
BEGIN:DAYLIGHT
TZOFFSETFROM:+0100
TZOFFSETTO:+0200
TZNAME:CEST
DTSTART:20240331T010000
END:DAYLIGHT
BEGIN:STANDARD
TZOFFSETFROM:+0200
TZOFFSETTO:+0100
TZNAME:CET
DTSTART:20241027T010000
END:STANDARD
END:VTIMEZONE
BEGIN:VEVENT
DTSTART;VALUE=DATE:20241005
DTEND;VALUE=DATE:20241006
DTSTAMP:20260419T231742
CREATED:20221027T141621Z
LAST-MODIFIED:20231103T144440Z
UID:2295-1728086400-1728172799@mavaliseecolo.com
SUMMARY:Préparer son entretien de renouvellement d'agrément avec la PMI
DESCRIPTION:Formation continue IPERIA pour les assmats inscription auprès de Sylvan Formations centre de formations \nFormation rémunérée \n0546551470 contact@sylvan-larochelle.com \nou auprès de moi mème Karine 0608615377 mavaliseecolo@gmail.com \nPréparer son entretien de renouvellement d’agrément avec la PMI \nles samedis 5 et 12 octobre  9h-17h  lieu à déterminer \n  \n 
URL:https://mavaliseecolo.com/evenement/preparer-son-entretien-de-renouvellement-dagrement-avec-la-pmi/
LOCATION:Tercé
CATEGORIES:Formation continue asmats
ATTACH;FMTTYPE=image/png:https://mavaliseecolo.com/wp-content/uploads/2023/03/Renouvellement-dagrement.png
END:VEVENT
END:VCALENDAR