BEGIN:VCALENDAR
VERSION:2.0
PRODID:-//Ma valise Ecolo - ECPv5.5.0//NONSGML v1.0//EN
CALSCALE:GREGORIAN
METHOD:PUBLISH
X-WR-CALNAME:Ma valise Ecolo
X-ORIGINAL-URL:https://mavaliseecolo.com
X-WR-CALDESC:évènements pour Ma valise Ecolo
BEGIN:VTIMEZONE
TZID:Europe/Paris
BEGIN:DAYLIGHT
TZOFFSETFROM:+0100
TZOFFSETTO:+0200
TZNAME:CEST
DTSTART:20240331T010000
END:DAYLIGHT
BEGIN:STANDARD
TZOFFSETFROM:+0200
TZOFFSETTO:+0100
TZNAME:CET
DTSTART:20241027T010000
END:STANDARD
END:VTIMEZONE
BEGIN:VEVENT
DTSTART;VALUE=DATE:20240709
DTEND;VALUE=DATE:20240710
DTSTAMP:20260420T034316
CREATED:20231107T135319Z
LAST-MODIFIED:20231107T135319Z
UID:2477-1720483200-1720569599@mavaliseecolo.com
SUMMARY:Sensibilisation à l'environnement et activités à moindre coût 
DESCRIPTION:Sensibilisation à l’environnement et activités à moindre coût  14h \nAvec l’organisme de formation Planète Enfance  contact.regions@planete–enfance.com    02 21 76 43 29 \nVous pouvez me contacter au 0608615377 ou mavaliseecolo@gmail.com pour de plus amples renseignements \n9h-17h     Jeudi 27 juin et mardi 9 juillet  en attente de lieu \nrémunération IPERIA
URL:https://mavaliseecolo.com/evenement/sensibilisation-a-lenvironnement-et-activites-a-moindre-cout-9/
CATEGORIES:Formation continue asmats
ATTACH;FMTTYPE=image/png:https://mavaliseecolo.com/wp-content/uploads/2023/03/Screenshot-2023-03-03-at-19-53-28-IPERIA.png
END:VEVENT
END:VCALENDAR