BEGIN:VCALENDAR
VERSION:2.0
PRODID:-//Ma valise Ecolo - ECPv5.5.0//NONSGML v1.0//EN
CALSCALE:GREGORIAN
METHOD:PUBLISH
X-WR-CALNAME:Ma valise Ecolo
X-ORIGINAL-URL:https://mavaliseecolo.com
X-WR-CALDESC:évènements pour Ma valise Ecolo
BEGIN:VTIMEZONE
TZID:Europe/Paris
BEGIN:DAYLIGHT
TZOFFSETFROM:+0100
TZOFFSETTO:+0200
TZNAME:CEST
DTSTART:20240331T010000
END:DAYLIGHT
BEGIN:STANDARD
TZOFFSETFROM:+0200
TZOFFSETTO:+0100
TZNAME:CET
DTSTART:20241027T010000
END:STANDARD
END:VTIMEZONE
BEGIN:VEVENT
DTSTART;VALUE=DATE:20240614
DTEND;VALUE=DATE:20240615
DTSTAMP:20260420T070615
CREATED:20231104T092645Z
LAST-MODIFIED:20231104T092645Z
UID:2467-1718323200-1718409599@mavaliseecolo.com
SUMMARY:Fabrication de produits ménagers écoresponsables
DESCRIPTION:Fabrication de produits ménagers écoresponsables  vendredi 7 et 14 juin  lieu à déterminer \nFormation continue IPERIA pour les assmats inscription auprès de Sylvan Formations centre de formations \nFormation rémunérée \n0546551470 contact@sylvan-larochelle.com \nou auprès de moi mème Karine 0608615377 mavaliseecolo@gmail.com
URL:https://mavaliseecolo.com/evenement/fabrication-de-produits-menagers-ecoresponsables-2/
CATEGORIES:Formation continue asmats
ATTACH;FMTTYPE=image/png:https://mavaliseecolo.com/wp-content/uploads/2023/03/fiche-iperia-2.png
END:VEVENT
END:VCALENDAR