BEGIN:VCALENDAR
VERSION:2.0
PRODID:-//Ma valise Ecolo - ECPv5.5.0//NONSGML v1.0//EN
CALSCALE:GREGORIAN
METHOD:PUBLISH
X-WR-CALNAME:Ma valise Ecolo
X-ORIGINAL-URL:https://mavaliseecolo.com
X-WR-CALDESC:évènements pour Ma valise Ecolo
BEGIN:VTIMEZONE
TZID:Europe/Paris
BEGIN:DAYLIGHT
TZOFFSETFROM:+0100
TZOFFSETTO:+0200
TZNAME:CEST
DTSTART:20240331T010000
END:DAYLIGHT
BEGIN:STANDARD
TZOFFSETFROM:+0200
TZOFFSETTO:+0100
TZNAME:CET
DTSTART:20241027T010000
END:STANDARD
END:VTIMEZONE
BEGIN:VEVENT
DTSTART;VALUE=DATE:20240513
DTEND;VALUE=DATE:20240514
DTSTAMP:20260420T065611
CREATED:20231104T090212Z
LAST-MODIFIED:20231104T090212Z
UID:2464-1715558400-1715644799@mavaliseecolo.com
SUMMARY:Intégrer des pratiques professionnelles écoresponsables
DESCRIPTION:Formation continue de 14h pour assistants maternels rémunérée par IPERIA \nIntégrer des pratiques professionnelles écoresponsables      Lundi 13 et 27 mai  lieu à déterminer \nFormation rémunérée \npour s’inscrire auprès de \n0546551470 contact@sylvan-larochelle.com \nou auprès de moi mème Karine 0608615377 mavaliseecolo@gmail.com
URL:https://mavaliseecolo.com/evenement/integrer-des-pratiques-professionnelles-ecoresponsables-8/
CATEGORIES:Formation continue asmats
ATTACH;FMTTYPE=image/jpeg:https://mavaliseecolo.com/wp-content/uploads/2022/10/Objectifs-et-points-cles-Integrer-des-pratiques-professionnelles-ecoresponsables_page-0001.jpg
END:VEVENT
END:VCALENDAR