BEGIN:VCALENDAR
VERSION:2.0
PRODID:-//Ma valise Ecolo - ECPv5.5.0//NONSGML v1.0//EN
CALSCALE:GREGORIAN
METHOD:PUBLISH
X-WR-CALNAME:Ma valise Ecolo
X-ORIGINAL-URL:https://mavaliseecolo.com
X-WR-CALDESC:évènements pour Ma valise Ecolo
BEGIN:VTIMEZONE
TZID:Europe/Paris
BEGIN:DAYLIGHT
TZOFFSETFROM:+0100
TZOFFSETTO:+0200
TZNAME:CEST
DTSTART:20240331T010000
END:DAYLIGHT
BEGIN:STANDARD
TZOFFSETFROM:+0200
TZOFFSETTO:+0100
TZNAME:CET
DTSTART:20241027T010000
END:STANDARD
END:VTIMEZONE
BEGIN:VEVENT
DTSTART;VALUE=DATE:20240413
DTEND;VALUE=DATE:20240414
DTSTAMP:20260420T084347
CREATED:20231107T134958Z
LAST-MODIFIED:20231107T134958Z
UID:2475-1712966400-1713052799@mavaliseecolo.com
SUMMARY:Favoriser le jeu libre et aménager ses espaces
DESCRIPTION:Favoriser le jeu libre et aménager ses espaces \nAvec l’organisme de formation Planète Enfance  contact.regions@planete–enfance.com    02 21 76 43 29 \nVous pouvez me contacter au 0608615377 ou mavaliseecolo@gmail.com pour de plus amples renseignements \n9h-17h  Les samedis 6 et 13 avril  en attente de lieu \nrémunération IPERIA
URL:https://mavaliseecolo.com/evenement/favoriser-le-jeu-libre-et-amenager-ses-espaces-10/
CATEGORIES:Formation continue asmats
ATTACH;FMTTYPE=image/png:https://mavaliseecolo.com/wp-content/uploads/2023/03/Fiche-iperia-1.png
END:VEVENT
END:VCALENDAR