BEGIN:VCALENDAR
VERSION:2.0
PRODID:-//Ma valise Ecolo - ECPv5.5.0//NONSGML v1.0//EN
CALSCALE:GREGORIAN
METHOD:PUBLISH
X-WR-CALNAME:Ma valise Ecolo
X-ORIGINAL-URL:https://mavaliseecolo.com
X-WR-CALDESC:évènements pour Ma valise Ecolo
BEGIN:VTIMEZONE
TZID:Europe/Paris
BEGIN:DAYLIGHT
TZOFFSETFROM:+0100
TZOFFSETTO:+0200
TZNAME:CEST
DTSTART:20240331T010000
END:DAYLIGHT
BEGIN:STANDARD
TZOFFSETFROM:+0200
TZOFFSETTO:+0100
TZNAME:CET
DTSTART:20241027T010000
END:STANDARD
END:VTIMEZONE
BEGIN:VEVENT
DTSTART;VALUE=DATE:20240323
DTEND;VALUE=DATE:20240324
DTSTAMP:20260420T101902
CREATED:20231103T145922Z
LAST-MODIFIED:20240131T121254Z
UID:2451-1711152000-1711238399@mavaliseecolo.com
SUMMARY:Favoriser le jeu libre et aménager ses espaces
DESCRIPTION:Formation continue IPERIA pour les assmats  inscription auprès de Sylvan Formations centre de formations \nFormation rémunérée \n0546551470              contact@sylvan-larochelle.com \nou auprès de moi mème Karine 0608615377    mavaliseecolo@gmail.com \n« Favoriser le jeu libre et aménager ses espaces » \nSamedis 9 et 23 mars    à Saint-Cyr \n\n\n 
URL:https://mavaliseecolo.com/evenement/construire-son-projet-daccueil-10/
LOCATION:saint-Cyr
CATEGORIES:Formation continue asmats
ATTACH;FMTTYPE=image/png:https://mavaliseecolo.com/wp-content/uploads/2023/03/Fiche-iperia-1.png
END:VEVENT
END:VCALENDAR