BEGIN:VCALENDAR
VERSION:2.0
PRODID:-//Ma valise Ecolo - ECPv5.5.0//NONSGML v1.0//EN
CALSCALE:GREGORIAN
METHOD:PUBLISH
X-WR-CALNAME:Ma valise Ecolo
X-ORIGINAL-URL:https://mavaliseecolo.com
X-WR-CALDESC:évènements pour Ma valise Ecolo
BEGIN:VTIMEZONE
TZID:Europe/Paris
BEGIN:DAYLIGHT
TZOFFSETFROM:+0100
TZOFFSETTO:+0200
TZNAME:CEST
DTSTART:20230326T010000
END:DAYLIGHT
BEGIN:STANDARD
TZOFFSETFROM:+0200
TZOFFSETTO:+0100
TZNAME:CET
DTSTART:20231029T010000
END:STANDARD
END:VTIMEZONE
BEGIN:VEVENT
DTSTART;VALUE=DATE:20230304
DTEND;VALUE=DATE:20230305
DTSTAMP:20260421T052830
CREATED:20220904T184041Z
LAST-MODIFIED:20230206T093133Z
UID:2270-1677888000-1677974399@mavaliseecolo.com
SUMMARY:État de santé de l'enfant les bonnes pratiques
DESCRIPTION:Formation continue IPERIA pour les assmats \n« État de santé de l’enfant les bonnes pratiques  » \nFormation rémunérée \nrenseignements et inscription \nSylvan Formations centre de formations \n0546551470 contact@sylvan-larochelle.com \nou auprès de moi mème Karine 0608615377 \nmavaliseecolo@gmail.com \nLieu en attente de salle \nles samedis 21 janvier et 04 février   9h-17h
URL:https://mavaliseecolo.com/evenement/etat-de-sante-de-lenfant-les-bonnes-pratiques-2/
CATEGORIES:Formation continue asmats
ATTACH;FMTTYPE=image/jpeg:https://mavaliseecolo.com/wp-content/uploads/2022/07/th.jpg
END:VEVENT
END:VCALENDAR