BEGIN:VCALENDAR
VERSION:2.0
PRODID:-//Ma valise Ecolo - ECPv5.5.0//NONSGML v1.0//EN
CALSCALE:GREGORIAN
METHOD:PUBLISH
X-WR-CALNAME:Ma valise Ecolo
X-ORIGINAL-URL:https://mavaliseecolo.com
X-WR-CALDESC:évènements pour Ma valise Ecolo
BEGIN:VTIMEZONE
TZID:Europe/Paris
BEGIN:DAYLIGHT
TZOFFSETFROM:+0100
TZOFFSETTO:+0200
TZNAME:CEST
DTSTART:20230326T010000
END:DAYLIGHT
BEGIN:STANDARD
TZOFFSETFROM:+0200
TZOFFSETTO:+0100
TZNAME:CET
DTSTART:20231029T010000
END:STANDARD
END:VTIMEZONE
BEGIN:VEVENT
DTSTART;VALUE=DATE:20230203
DTEND;VALUE=DATE:20230204
DTSTAMP:20260421T070233
CREATED:20220830T173426Z
LAST-MODIFIED:20221027T131724Z
UID:2234-1675382400-1675468799@mavaliseecolo.com
SUMMARY:Intégrer des pratiques professionnelles écoresponsables
DESCRIPTION:Formation continue de 14h pour assistants maternels rémunérée par IPERIA \nIntégrer des pratiques professionnelles écoresponsables \npour s’inscrire auprès de Ma valise écolo Karine ou Sylvan formations \nsalle en attente de lieu \nvendredi 13 janvier et vendredi 3 février \n9h-17h
URL:https://mavaliseecolo.com/evenement/integrer-des-pratiques-professionnelles-ecoresponsables-2/
CATEGORIES:Formation continue asmats
ATTACH;FMTTYPE=image/jpeg:https://mavaliseecolo.com/wp-content/uploads/2022/07/th.jpg
END:VEVENT
END:VCALENDAR