BEGIN:VCALENDAR
VERSION:2.0
PRODID:-//Ma valise Ecolo - ECPv5.5.0//NONSGML v1.0//EN
CALSCALE:GREGORIAN
METHOD:PUBLISH
X-WR-CALNAME:Ma valise Ecolo
X-ORIGINAL-URL:https://mavaliseecolo.com
X-WR-CALDESC:évènements pour Ma valise Ecolo
BEGIN:VTIMEZONE
TZID:Europe/Paris
BEGIN:DAYLIGHT
TZOFFSETFROM:+0100
TZOFFSETTO:+0200
TZNAME:CEST
DTSTART:20230326T010000
END:DAYLIGHT
BEGIN:STANDARD
TZOFFSETFROM:+0200
TZOFFSETTO:+0100
TZNAME:CET
DTSTART:20231029T010000
END:STANDARD
END:VTIMEZONE
BEGIN:VEVENT
DTSTART;VALUE=DATE:20230128
DTEND;VALUE=DATE:20230129
DTSTAMP:20260421T085059
CREATED:20220904T164708Z
LAST-MODIFIED:20220904T182448Z
UID:2263-1674864000-1674950399@mavaliseecolo.com
SUMMARY:Construire son projet d'accueil
DESCRIPTION:Formation continue IPERIA pour les assmats  inscription auprès de Sylvan Formations centre de formations \nFormation rémunérée \n0546551470              contact@sylvan-larochelle.com \nou auprès de moi mème Karine 0608615377    mavaliseecolo@gmail.com \n« Construire son projet d’accueil » \nles samedis 28 janvier\, 25 février et 4 mars \nSalle en attente de lieu
URL:https://mavaliseecolo.com/evenement/construire-son-projet-daccueil-4/
CATEGORIES:Formation continue asmats,formation initiale asmats
ATTACH;FMTTYPE=image/jpeg:https://mavaliseecolo.com/wp-content/uploads/2022/07/th.jpg
END:VEVENT
END:VCALENDAR