BEGIN:VCALENDAR
VERSION:2.0
PRODID:-//Ma valise Ecolo - ECPv5.5.0//NONSGML v1.0//EN
CALSCALE:GREGORIAN
METHOD:PUBLISH
X-WR-CALNAME:Ma valise Ecolo
X-ORIGINAL-URL:https://mavaliseecolo.com
X-WR-CALDESC:évènements pour Ma valise Ecolo
BEGIN:VTIMEZONE
TZID:Europe/Paris
BEGIN:DAYLIGHT
TZOFFSETFROM:+0100
TZOFFSETTO:+0200
TZNAME:CEST
DTSTART:20220327T010000
END:DAYLIGHT
BEGIN:STANDARD
TZOFFSETFROM:+0200
TZOFFSETTO:+0100
TZNAME:CET
DTSTART:20221030T010000
END:STANDARD
END:VTIMEZONE
BEGIN:VEVENT
DTSTART;VALUE=DATE:20221125
DTEND;VALUE=DATE:20221126
DTSTAMP:20260421T120147
CREATED:20220223T182307Z
LAST-MODIFIED:20220223T182307Z
UID:2109-1669334400-1669420799@mavaliseecolo.com
SUMMARY:Formation assistants maternels
DESCRIPTION:J’interviens en tant que formatrice en formation initiale auprès de futurs assistants maternels agréés
URL:https://mavaliseecolo.com/evenement/formation-assistants-maternels-2/
CATEGORIES:Formation continue asmats
ATTACH;FMTTYPE=image/jpeg:https://mavaliseecolo.com/wp-content/uploads/2021/02/assistante-maternelle-nounou-plaque-de-rue-photo.1.jpg
END:VEVENT
END:VCALENDAR