BEGIN:VCALENDAR
VERSION:2.0
PRODID:-//Ma valise Ecolo - ECPv5.5.0//NONSGML v1.0//EN
CALSCALE:GREGORIAN
METHOD:PUBLISH
X-WR-CALNAME:Ma valise Ecolo
X-ORIGINAL-URL:https://mavaliseecolo.com
X-WR-CALDESC:évènements pour Ma valise Ecolo
BEGIN:VTIMEZONE
TZID:Europe/Paris
BEGIN:DAYLIGHT
TZOFFSETFROM:+0100
TZOFFSETTO:+0200
TZNAME:CEST
DTSTART:20220327T010000
END:DAYLIGHT
BEGIN:STANDARD
TZOFFSETFROM:+0200
TZOFFSETTO:+0100
TZNAME:CET
DTSTART:20221030T010000
END:STANDARD
END:VTIMEZONE
BEGIN:VEVENT
DTSTART;VALUE=DATE:20221112
DTEND;VALUE=DATE:20221113
DTSTAMP:20260421T120219
CREATED:20220722T102252Z
LAST-MODIFIED:20220722T102252Z
UID:2227-1668211200-1668297599@mavaliseecolo.com
SUMMARY:Construire son projet d'accueil
DESCRIPTION:Formation continue pour les assmats \n« Construire son projet d’accueil » \nles samedis 22 octobre\, 12 novembre et 26 novembre
URL:https://mavaliseecolo.com/evenement/construire-son-projet-daccueil-2/
CATEGORIES:Formation continue asmats
ATTACH;FMTTYPE=image/jpeg:https://mavaliseecolo.com/wp-content/uploads/2022/07/th.jpg
END:VEVENT
END:VCALENDAR