BEGIN:VCALENDAR
VERSION:2.0
PRODID:-//Ma valise Ecolo - ECPv5.5.0//NONSGML v1.0//EN
CALSCALE:GREGORIAN
METHOD:PUBLISH
X-WR-CALNAME:Ma valise Ecolo
X-ORIGINAL-URL:https://mavaliseecolo.com
X-WR-CALDESC:évènements pour Ma valise Ecolo
BEGIN:VTIMEZONE
TZID:Europe/Paris
BEGIN:DAYLIGHT
TZOFFSETFROM:+0100
TZOFFSETTO:+0200
TZNAME:CEST
DTSTART:20240331T010000
END:DAYLIGHT
BEGIN:STANDARD
TZOFFSETFROM:+0200
TZOFFSETTO:+0100
TZNAME:CET
DTSTART:20241027T010000
END:STANDARD
END:VTIMEZONE
BEGIN:VEVENT
DTSTART;TZID=Europe/Paris:20240210T110000
DTEND;TZID=Europe/Paris:20240210T123000
DTSTAMP:20260422T135347
CREATED:20240131T122917Z
LAST-MODIFIED:20240131T122917Z
UID:2530-1707562800-1707568200@mavaliseecolo.com
SUMMARY:Atelier couches lavables à Neuville du Poitou
DESCRIPTION:Atelier couches lavables gratuit à CALM comme à la maison \nlien pour inscription jauge limitée \nhttps://calm-neuville.regiondo.fr/atelier-decouverte-couches-lavables?_ga=2.89544542.479059057.1704722464-1579771792.1697709814 \nle samedi 10 février à 11h \nVenez découvrir l’univers de la couche lavable leur utilisation et pourquoi \nPossibilité de location de couches lavables \nhttp://www.calm-neuville.fr/
URL:https://mavaliseecolo.com/evenement/atelier-couches-lavables-a-neuville-du-poitou/
LOCATION:Neuville
CATEGORIES:Ateliers
ATTACH;FMTTYPE=image/jpeg:https://mavaliseecolo.com/wp-content/uploads/2020/01/couches-couleurs-e1578391025928.jpg
END:VEVENT
END:VCALENDAR