BEGIN:VCALENDAR
VERSION:2.0
PRODID:-//Ma valise Ecolo - ECPv5.5.0//NONSGML v1.0//EN
CALSCALE:GREGORIAN
METHOD:PUBLISH
X-WR-CALNAME:Ma valise Ecolo
X-ORIGINAL-URL:https://mavaliseecolo.com
X-WR-CALDESC:évènements pour Ma valise Ecolo
BEGIN:VTIMEZONE
TZID:Europe/Paris
BEGIN:DAYLIGHT
TZOFFSETFROM:+0100
TZOFFSETTO:+0200
TZNAME:CEST
DTSTART:20230326T010000
END:DAYLIGHT
BEGIN:STANDARD
TZOFFSETFROM:+0200
TZOFFSETTO:+0100
TZNAME:CET
DTSTART:20231029T010000
END:STANDARD
END:VTIMEZONE
BEGIN:VEVENT
DTSTART;TZID=Europe/Paris:20230921T093000
DTEND;TZID=Europe/Paris:20230921T113000
DTSTAMP:20260422T233229
CREATED:20230611T080601Z
LAST-MODIFIED:20230611T080601Z
UID:2408-1695288600-1695295800@mavaliseecolo.com
SUMMARY:
DESCRIPTION:Atelier Nesting   « Faire son nid » \nUn regard sur les produits du quotidien qui nous entourent \n9h30-11h30 avec le Café des enfants \nSur inscription 10 personnes maximum \nEspace St Martial : place Louis Pagenault à Chauvigny (en cité médiévale)
URL:https://mavaliseecolo.com/evenement/2408/
LOCATION:Chauvigny
CATEGORIES:Ateliers
ATTACH;FMTTYPE=image/png:https://mavaliseecolo.com/wp-content/uploads/2021/05/logo.png
END:VEVENT
BEGIN:VEVENT
DTSTART;TZID=Europe/Paris:20230921T200000
DTEND;TZID=Europe/Paris:20230921T220000
DTSTAMP:20260422T233229
CREATED:20230611T080259Z
LAST-MODIFIED:20230611T080827Z
UID:2407-1695326400-1695333600@mavaliseecolo.com
SUMMARY:Atelier Nesting
DESCRIPTION:Atelier Ma Maison Ma Santé     parlons  des produits cosmétiques \n20h-22h avec le Café des enfants \nSur inscription 10 personnes maximum \nEspace St Martial : place Louis Pagenault à Chauvigny (en cité médiévale) \n 
URL:https://mavaliseecolo.com/evenement/atelier-nesting-3/
LOCATION:Chauvigny
CATEGORIES:Ateliers
ATTACH;FMTTYPE=image/png:https://mavaliseecolo.com/wp-content/uploads/2021/05/logo.png
END:VEVENT
END:VCALENDAR