BEGIN:VCALENDAR
VERSION:2.0
PRODID:-//Ma valise Ecolo - ECPv5.5.0//NONSGML v1.0//EN
CALSCALE:GREGORIAN
METHOD:PUBLISH
X-WR-CALNAME:Ma valise Ecolo
X-ORIGINAL-URL:https://mavaliseecolo.com
X-WR-CALDESC:évènements pour Ma valise Ecolo
BEGIN:VTIMEZONE
TZID:Europe/Paris
BEGIN:DAYLIGHT
TZOFFSETFROM:+0100
TZOFFSETTO:+0200
TZNAME:CEST
DTSTART:20220327T010000
END:DAYLIGHT
BEGIN:STANDARD
TZOFFSETFROM:+0200
TZOFFSETTO:+0100
TZNAME:CET
DTSTART:20221030T010000
END:STANDARD
END:VTIMEZONE
BEGIN:VEVENT
DTSTART;VALUE=DATE:20221127
DTEND;VALUE=DATE:20221128
DTSTAMP:20260423T170325
CREATED:20220713T161858Z
LAST-MODIFIED:20220713T161858Z
UID:2217-1669507200-1669593599@mavaliseecolo.com
SUMMARY:Salon zéro déchet
DESCRIPTION:Salon zéro déchet à la salle  des fêtes de Cissé préparé par la com-com du Haut-Poitou \nAnimation couches lavables atelier et conférence en deux pôles distincts
URL:https://mavaliseecolo.com/evenement/salon-zero-dechet/
CATEGORIES:Ateliers,Conférences
ATTACH;FMTTYPE=image/jpeg:https://mavaliseecolo.com/wp-content/uploads/2022/07/285912957_169885345455362_1260212219050135143_n.jpg
END:VEVENT
END:VCALENDAR