BEGIN:VCALENDAR
VERSION:2.0
PRODID:-//Ma valise Ecolo - ECPv5.5.0//NONSGML v1.0//EN
CALSCALE:GREGORIAN
METHOD:PUBLISH
X-WR-CALNAME:Ma valise Ecolo
X-ORIGINAL-URL:https://mavaliseecolo.com
X-WR-CALDESC:évènements pour Ma valise Ecolo
BEGIN:VTIMEZONE
TZID:Europe/Paris
BEGIN:DAYLIGHT
TZOFFSETFROM:+0100
TZOFFSETTO:+0200
TZNAME:CEST
DTSTART:20220327T010000
END:DAYLIGHT
BEGIN:STANDARD
TZOFFSETFROM:+0200
TZOFFSETTO:+0100
TZNAME:CET
DTSTART:20221030T010000
END:STANDARD
END:VTIMEZONE
BEGIN:VEVENT
DTSTART;TZID=Europe/Paris:20221110T093000
DTEND;TZID=Europe/Paris:20221110T110000
DTSTAMP:20260423T165427
CREATED:20220614T181442Z
LAST-MODIFIED:20221005T113843Z
UID:2173-1668072600-1668078000@mavaliseecolo.com
SUMMARY:atelier RPE de Douadic
DESCRIPTION:Atelier Tournon Saint Martin
URL:https://mavaliseecolo.com/evenement/atelier-rpe-de-douadic-5/
CATEGORIES:Ateliers
ATTACH;FMTTYPE=image/png:https://mavaliseecolo.com/wp-content/uploads/2020/05/logo-MVE-1.png
END:VEVENT
END:VCALENDAR