BEGIN:VCALENDAR
VERSION:2.0
PRODID:-//Ma valise Ecolo - ECPv5.5.0//NONSGML v1.0//EN
CALSCALE:GREGORIAN
METHOD:PUBLISH
X-WR-CALNAME:Ma valise Ecolo
X-ORIGINAL-URL:https://mavaliseecolo.com
X-WR-CALDESC:évènements pour Ma valise Ecolo
BEGIN:VTIMEZONE
TZID:Europe/Paris
BEGIN:DAYLIGHT
TZOFFSETFROM:+0100
TZOFFSETTO:+0200
TZNAME:CEST
DTSTART:20220327T010000
END:DAYLIGHT
BEGIN:STANDARD
TZOFFSETFROM:+0200
TZOFFSETTO:+0100
TZNAME:CET
DTSTART:20221030T010000
END:STANDARD
END:VTIMEZONE
BEGIN:VEVENT
DTSTART;TZID=Europe/Paris:20221011T093000
DTEND;TZID=Europe/Paris:20221011T113000
DTSTAMP:20260423T183210
CREATED:20220318T154142Z
LAST-MODIFIED:20220904T154527Z
UID:2123-1665480600-1665487800@mavaliseecolo.com
SUMMARY:Atelier au RPE  de Sèvres Anxaumont
DESCRIPTION:Atelier auprès des assistantes maternelles au relais
URL:https://mavaliseecolo.com/evenement/atelier-au-rpe-de-sevres-anxaumont/
CATEGORIES:Ateliers
ATTACH;FMTTYPE=image/png:https://mavaliseecolo.com/wp-content/uploads/2020/05/logo-MVE-1.png
END:VEVENT
END:VCALENDAR