BEGIN:VCALENDAR
VERSION:2.0
PRODID:-//Ma valise Ecolo - ECPv5.5.0//NONSGML v1.0//EN
CALSCALE:GREGORIAN
METHOD:PUBLISH
X-WR-CALNAME:Ma valise Ecolo
X-ORIGINAL-URL:https://mavaliseecolo.com
X-WR-CALDESC:évènements pour Ma valise Ecolo
BEGIN:VTIMEZONE
TZID:Europe/Paris
BEGIN:DAYLIGHT
TZOFFSETFROM:+0100
TZOFFSETTO:+0200
TZNAME:CEST
DTSTART:20220327T010000
END:DAYLIGHT
BEGIN:STANDARD
TZOFFSETFROM:+0200
TZOFFSETTO:+0100
TZNAME:CET
DTSTART:20221030T010000
END:STANDARD
END:VTIMEZONE
BEGIN:VEVENT
DTSTART;TZID=Europe/Paris:20220721T093000
DTEND;TZID=Europe/Paris:20220721T120000
DTSTAMP:20260423T234022
CREATED:20220128T133308Z
LAST-MODIFIED:20220614T182639Z
UID:2084-1658395800-1658404800@mavaliseecolo.com
SUMMARY:Atelier pour le RPE de Douadic
DESCRIPTION:Loisirs créatifs adaptés à l’accueil des enfants et aux normes environnementales à Prissac
URL:https://mavaliseecolo.com/evenement/atelier-pour-le-rpe-de-douadic-7/
CATEGORIES:Ateliers
ATTACH;FMTTYPE=image/png:https://mavaliseecolo.com/wp-content/uploads/2020/05/logo-MVE.png
END:VEVENT
END:VCALENDAR