BEGIN:VCALENDAR
VERSION:2.0
PRODID:-//Ma valise Ecolo - ECPv5.5.0//NONSGML v1.0//EN
CALSCALE:GREGORIAN
METHOD:PUBLISH
X-WR-CALNAME:Ma valise Ecolo
X-ORIGINAL-URL:https://mavaliseecolo.com
X-WR-CALDESC:évènements pour Ma valise Ecolo
BEGIN:VTIMEZONE
TZID:Europe/Paris
BEGIN:DAYLIGHT
TZOFFSETFROM:+0100
TZOFFSETTO:+0200
TZNAME:CEST
DTSTART:20220327T010000
END:DAYLIGHT
BEGIN:STANDARD
TZOFFSETFROM:+0200
TZOFFSETTO:+0100
TZNAME:CET
DTSTART:20221030T010000
END:STANDARD
END:VTIMEZONE
BEGIN:VEVENT
DTSTART;TZID=Europe/Paris:20220602T093000
DTEND;TZID=Europe/Paris:20220602T113000
DTSTAMP:20260424T011602
CREATED:20220406T183559Z
LAST-MODIFIED:20220406T183559Z
UID:2143-1654162200-1654169400@mavaliseecolo.com
SUMMARY:Atelier au RPE de Vouillé
DESCRIPTION:L’importance de jouer dehors avec les assistants maternels et les enfants accueillis au parc de la Gorande
URL:https://mavaliseecolo.com/evenement/atelier-au-rpe-de-vouille/
CATEGORIES:Ateliers
ATTACH;FMTTYPE=image/jpeg:https://mavaliseecolo.com/wp-content/uploads/2021/01/1495-gettyimages-624492258-1-1280x776-1.jpg
END:VEVENT
END:VCALENDAR