BEGIN:VCALENDAR
VERSION:2.0
PRODID:-//Ma valise Ecolo - ECPv5.5.0//NONSGML v1.0//EN
CALSCALE:GREGORIAN
METHOD:PUBLISH
X-WR-CALNAME:Ma valise Ecolo
X-ORIGINAL-URL:https://mavaliseecolo.com
X-WR-CALDESC:évènements pour Ma valise Ecolo
BEGIN:VTIMEZONE
TZID:Europe/Paris
BEGIN:DAYLIGHT
TZOFFSETFROM:+0100
TZOFFSETTO:+0200
TZNAME:CEST
DTSTART:20220327T010000
END:DAYLIGHT
BEGIN:STANDARD
TZOFFSETFROM:+0200
TZOFFSETTO:+0100
TZNAME:CET
DTSTART:20221030T010000
END:STANDARD
END:VTIMEZONE
BEGIN:VEVENT
DTSTART;TZID=Europe/Paris:20220114T090000
DTEND;TZID=Europe/Paris:20220114T110000
DTSTAMP:20260424T085748
CREATED:20210701T163321Z
LAST-MODIFIED:20211120T173321Z
UID:1924-1642150800-1642158000@mavaliseecolo.com
SUMMARY:Atelier en multi-accueil
DESCRIPTION:Atelier \n 
URL:https://mavaliseecolo.com/evenement/atelier-en-multi-accueil-5/
LOCATION:Jaunay-Marigny
CATEGORIES:Ateliers
ATTACH;FMTTYPE=image/jpeg:https://mavaliseecolo.com/wp-content/uploads/2021/07/th.jpg
END:VEVENT
END:VCALENDAR