BEGIN:VCALENDAR
VERSION:2.0
PRODID:-//Ma valise Ecolo - ECPv5.5.0//NONSGML v1.0//EN
CALSCALE:GREGORIAN
METHOD:PUBLISH
X-WR-CALNAME:Ma valise Ecolo
X-ORIGINAL-URL:https://mavaliseecolo.com
X-WR-CALDESC:évènements pour Ma valise Ecolo
BEGIN:VTIMEZONE
TZID:Europe/Paris
BEGIN:DAYLIGHT
TZOFFSETFROM:+0100
TZOFFSETTO:+0200
TZNAME:CEST
DTSTART:20210328T010000
END:DAYLIGHT
BEGIN:STANDARD
TZOFFSETFROM:+0200
TZOFFSETTO:+0100
TZNAME:CET
DTSTART:20211031T010000
END:STANDARD
END:VTIMEZONE
BEGIN:VEVENT
DTSTART;TZID=Europe/Paris:20211123T100000
DTEND;TZID=Europe/Paris:20211123T113000
DTSTAMP:20260424T122201
CREATED:20210601T145952Z
LAST-MODIFIED:20210601T145952Z
UID:1905-1637661600-1637667000@mavaliseecolo.com
SUMMARY:Atelier au ram Vouillé
DESCRIPTION:Atelier en santé environnementale auprès des assistantes maternelles et les enfants accueillis
URL:https://mavaliseecolo.com/evenement/atelier-au-ram-vouille/
LOCATION:vouillé
CATEGORIES:Ateliers
ATTACH;FMTTYPE=image/png:https://mavaliseecolo.com/wp-content/uploads/2020/05/logo-MVE-1.png
END:VEVENT
BEGIN:VEVENT
DTSTART;TZID=Europe/Paris:20211123T180000
DTEND;TZID=Europe/Paris:20211123T200000
DTSTAMP:20260424T122201
CREATED:20210625T073601Z
LAST-MODIFIED:20211123T122051Z
UID:1915-1637690400-1637697600@mavaliseecolo.com
SUMMARY:atelier conférence Couches lavables
DESCRIPTION:à l’initiative de la Communauté d’Agglomération de Grand Châtellerault\nService Gestion des Déchets   salle camille Pagé \nAtelier conférence sur les couches lavables \nouvert à tous et gratuit
URL:https://mavaliseecolo.com/evenement/atelier-conference-couches-lavables-4/
LOCATION:Chatellerault\, Camille Pagé\, CHATELLERAULT\, 86100
CATEGORIES:Ateliers,Conférences
ATTACH;FMTTYPE=image/jpeg:https://mavaliseecolo.com/wp-content/uploads/2020/04/couches-comparaison5.jpg
END:VEVENT
END:VCALENDAR