BEGIN:VCALENDAR
VERSION:2.0
PRODID:-//Ma valise Ecolo - ECPv5.5.0//NONSGML v1.0//EN
CALSCALE:GREGORIAN
METHOD:PUBLISH
X-WR-CALNAME:Ma valise Ecolo
X-ORIGINAL-URL:https://mavaliseecolo.com
X-WR-CALDESC:évènements pour Ma valise Ecolo
BEGIN:VTIMEZONE
TZID:Europe/Paris
BEGIN:DAYLIGHT
TZOFFSETFROM:+0100
TZOFFSETTO:+0200
TZNAME:CEST
DTSTART:20210328T010000
END:DAYLIGHT
BEGIN:STANDARD
TZOFFSETFROM:+0200
TZOFFSETTO:+0100
TZNAME:CET
DTSTART:20211031T010000
END:STANDARD
END:VTIMEZONE
BEGIN:VEVENT
DTSTART;TZID=Europe/Paris:20211119T100000
DTEND;TZID=Europe/Paris:20211119T113000
DTSTAMP:20260424T122201
CREATED:20210601T142509Z
LAST-MODIFIED:20210601T142509Z
UID:1900-1637316000-1637321400@mavaliseecolo.com
SUMMARY:atelier en ram Chalandray
DESCRIPTION:Atelier en santé environnementale auprès des assistantes maternelles et les enfants accueillis
URL:https://mavaliseecolo.com/evenement/atelier-en-ram-chalandray-3/
LOCATION:Chalandray
CATEGORIES:Ateliers
ATTACH;FMTTYPE=image/png:https://mavaliseecolo.com/wp-content/uploads/2020/05/logo-MVE-1.png
END:VEVENT
END:VCALENDAR