BEGIN:VCALENDAR
VERSION:2.0
PRODID:-//Ma valise Ecolo - ECPv5.5.0//NONSGML v1.0//EN
CALSCALE:GREGORIAN
METHOD:PUBLISH
X-WR-CALNAME:Ma valise Ecolo
X-ORIGINAL-URL:https://mavaliseecolo.com
X-WR-CALDESC:évènements pour Ma valise Ecolo
BEGIN:VTIMEZONE
TZID:Europe/Paris
BEGIN:DAYLIGHT
TZOFFSETFROM:+0100
TZOFFSETTO:+0200
TZNAME:CEST
DTSTART:20210328T010000
END:DAYLIGHT
BEGIN:STANDARD
TZOFFSETFROM:+0200
TZOFFSETTO:+0100
TZNAME:CET
DTSTART:20211031T010000
END:STANDARD
END:VTIMEZONE
BEGIN:VEVENT
DTSTART;TZID=Europe/Paris:20211118T100000
DTEND;TZID=Europe/Paris:20211118T113000
DTSTAMP:20260424T122129
CREATED:20210601T150347Z
LAST-MODIFIED:20210601T150347Z
UID:1909-1637229600-1637235000@mavaliseecolo.com
SUMMARY:Atelier au ram Vouillé
DESCRIPTION:Atelier en santé environnementale auprès des assistantes maternelles et les enfants accueillis
URL:https://mavaliseecolo.com/evenement/atelier-au-ram-vouille-4/
LOCATION:Vouillé
CATEGORIES:Ateliers
ATTACH;FMTTYPE=image/png:https://mavaliseecolo.com/wp-content/uploads/2020/05/logo-MVE-1.png
END:VEVENT
BEGIN:VEVENT
DTSTART;TZID=Europe/Paris:20211118T200000
DTEND;TZID=Europe/Paris:20211118T220000
DTSTAMP:20260424T122129
CREATED:20201002T082607Z
LAST-MODIFIED:20211026T155153Z
UID:1716-1637265600-1637272800@mavaliseecolo.com
SUMMARY:Atelier bébé "presque zéro déchet"
DESCRIPTION:Sur demande du SIMER\, un atelier-conférence pour tout savoir l’accueil de bébé « Presque zéro déchet »en famille et au domicile de l’assistante maternelle. Ouvert  à tous        entrée gratuite \naura lieu avec le partenariat du relais petite enfance Pic et Plume de Valence en Poitou\n \nContact Mme Sylvie FERRAND au 05/79/65/00/08 \nInscription obligatoire avec masque et pass sanitaire         https://www.simer86.fr/actualites/les-ateliers-bebe-presque-0-dechet \nJauge limitée
URL:https://mavaliseecolo.com/evenement/soiree-accueillir-bebe-tout-en-ecologie/
LOCATION:Couhé
CATEGORIES:Ateliers,Conférences
ATTACH;FMTTYPE=image/jpeg:https://mavaliseecolo.com/wp-content/uploads/2020/09/affiche_atelier_bebe_zd.jpg
END:VEVENT
END:VCALENDAR