BEGIN:VCALENDAR
VERSION:2.0
PRODID:-//Ma valise Ecolo - ECPv5.5.0//NONSGML v1.0//EN
CALSCALE:GREGORIAN
METHOD:PUBLISH
X-WR-CALNAME:Ma valise Ecolo
X-ORIGINAL-URL:https://mavaliseecolo.com
X-WR-CALDESC:évènements pour Ma valise Ecolo
BEGIN:VTIMEZONE
TZID:Europe/Paris
BEGIN:DAYLIGHT
TZOFFSETFROM:+0100
TZOFFSETTO:+0200
TZNAME:CEST
DTSTART:20210328T010000
END:DAYLIGHT
BEGIN:STANDARD
TZOFFSETFROM:+0200
TZOFFSETTO:+0100
TZNAME:CET
DTSTART:20211031T010000
END:STANDARD
END:VTIMEZONE
BEGIN:VEVENT
DTSTART;TZID=Europe/Paris:20211104T200000
DTEND;TZID=Europe/Paris:20211104T220000
DTSTAMP:20260424T122131
CREATED:20200917T170104Z
LAST-MODIFIED:20211026T154253Z
UID:1712-1636056000-1636063200@mavaliseecolo.com
SUMMARY:Atelier bébé "Presque zéro déchet"
DESCRIPTION:Sur demande du SIMER\, un atelier-conférence pour tout savoir l’accueil de bébé « Presque zéro déchet »en famille et au domicile de l’assistante maternelle. Ouvert  à tous \naura lieu avec le partenariat de La maison de la petite enfance entrée gratuite \n« Les fripounets » de Civray \nContact Chantelard Christel au 05 49 97 12 50 \nInscription obligatoire avec masque et pass sanitaire https://www.simer86.fr/actualites/les-ateliers-bebe-presque-0-dechet \nJauge limitée \n 
URL:https://mavaliseecolo.com/evenement/atelier-conference-couches-lavables-2/
LOCATION:Civray
CATEGORIES:Ateliers,Conférences
ATTACH;FMTTYPE=image/jpeg:https://mavaliseecolo.com/wp-content/uploads/2020/09/affiche_atelier_bebe_zd.jpg
END:VEVENT
END:VCALENDAR