BEGIN:VCALENDAR
VERSION:2.0
PRODID:-//Ma valise Ecolo - ECPv5.5.0//NONSGML v1.0//EN
CALSCALE:GREGORIAN
METHOD:PUBLISH
X-WR-CALNAME:Ma valise Ecolo
X-ORIGINAL-URL:https://mavaliseecolo.com
X-WR-CALDESC:évènements pour Ma valise Ecolo
BEGIN:VTIMEZONE
TZID:Europe/Paris
BEGIN:DAYLIGHT
TZOFFSETFROM:+0100
TZOFFSETTO:+0200
TZNAME:CEST
DTSTART:20210328T010000
END:DAYLIGHT
BEGIN:STANDARD
TZOFFSETFROM:+0200
TZOFFSETTO:+0100
TZNAME:CET
DTSTART:20211031T010000
END:STANDARD
END:VTIMEZONE
BEGIN:VEVENT
DTSTART;TZID=Europe/Paris:20211001T090000
DTEND;TZID=Europe/Paris:20211001T110000
DTSTAMP:20260424T140222
CREATED:20210708T153032Z
LAST-MODIFIED:20210708T153032Z
UID:1930-1633078800-1633086000@mavaliseecolo.com
SUMMARY:Atelier au RPE de Chauvigny
DESCRIPTION:Atelier au Relais Petite Enfance « La farandole » de Chauvigny \nL’hygiène et les soins bébé  avec les assistantes maternelles et les enfants accueillis à leur domicile
URL:https://mavaliseecolo.com/evenement/atelier-au-rpe-de-chauvigny-2/
LOCATION:Chauvigny
CATEGORIES:Ateliers
ATTACH;FMTTYPE=image/png:https://mavaliseecolo.com/wp-content/uploads/2020/05/logo-MVE.png
END:VEVENT
END:VCALENDAR