BEGIN:VCALENDAR
VERSION:2.0
PRODID:-//Ma valise Ecolo - ECPv5.5.0//NONSGML v1.0//EN
CALSCALE:GREGORIAN
METHOD:PUBLISH
X-WR-CALNAME:Ma valise Ecolo
X-ORIGINAL-URL:https://mavaliseecolo.com
X-WR-CALDESC:évènements pour Ma valise Ecolo
BEGIN:VTIMEZONE
TZID:Europe/Paris
BEGIN:DAYLIGHT
TZOFFSETFROM:+0100
TZOFFSETTO:+0200
TZNAME:CEST
DTSTART:20210328T010000
END:DAYLIGHT
BEGIN:STANDARD
TZOFFSETFROM:+0200
TZOFFSETTO:+0100
TZNAME:CET
DTSTART:20211031T010000
END:STANDARD
END:VTIMEZONE
BEGIN:VEVENT
DTSTART;TZID=Europe/Paris:20210928T094500
DTEND;TZID=Europe/Paris:20210928T111500
DTSTAMP:20260424T155456
CREATED:20210526T111415Z
LAST-MODIFIED:20210526T111415Z
UID:1891-1632822300-1632827700@mavaliseecolo.com
SUMMARY:Atelier en ram
DESCRIPTION:Atelier au ram de Neuil l’Espoir   La santé au quotidien de bébé
URL:https://mavaliseecolo.com/evenement/atelier-en-ram-3/
LOCATION:Neuil l’Espoir
CATEGORIES:Ateliers
ATTACH;FMTTYPE=image/png:https://mavaliseecolo.com/wp-content/uploads/2020/05/logo-MVE-1.png
END:VEVENT
BEGIN:VEVENT
DTSTART;TZID=Europe/Paris:20210928T140000
DTEND;TZID=Europe/Paris:20210928T150000
DTSTAMP:20260424T155456
CREATED:20210708T154818Z
LAST-MODIFIED:20210708T154818Z
UID:1933-1632837600-1632841200@mavaliseecolo.com
SUMMARY:Atelier gratuit bébé 9
DESCRIPTION:Atelier santé environnementale au magasin bébé 9 Auchan sud Poitiers \nSur mesure en fonction de vos questions Fabriquer son liniment et qu’utiliser de plus sain tous les jours pour que bébé grandisse en tout quiétude \nSur inscription directement au magasin
URL:https://mavaliseecolo.com/evenement/atelier-gratuit-bebe-9/
LOCATION:Poitiers\, 4\, route de la Saulaie\, Poitiers\, 86000
CATEGORIES:Ateliers
ATTACH;FMTTYPE=image/png:https://mavaliseecolo.com/wp-content/uploads/2020/12/logo.png
END:VEVENT
END:VCALENDAR