BEGIN:VCALENDAR
VERSION:2.0
PRODID:-//Ma valise Ecolo - ECPv5.5.0//NONSGML v1.0//EN
CALSCALE:GREGORIAN
METHOD:PUBLISH
X-WR-CALNAME:Ma valise Ecolo
X-ORIGINAL-URL:https://mavaliseecolo.com
X-WR-CALDESC:évènements pour Ma valise Ecolo
BEGIN:VTIMEZONE
TZID:Europe/Paris
BEGIN:DAYLIGHT
TZOFFSETFROM:+0100
TZOFFSETTO:+0200
TZNAME:CEST
DTSTART:20210328T010000
END:DAYLIGHT
BEGIN:STANDARD
TZOFFSETFROM:+0200
TZOFFSETTO:+0100
TZNAME:CET
DTSTART:20211031T010000
END:STANDARD
END:VTIMEZONE
BEGIN:VEVENT
DTSTART;TZID=Europe/Paris:20210619T150000
DTEND;TZID=Europe/Paris:20210619T170000
DTSTAMP:20260424T212912
CREATED:20210529T065138Z
LAST-MODIFIED:20210529T065138Z
UID:1893-1624114800-1624122000@mavaliseecolo.com
SUMMARY:Atelier conférence couches lavables
DESCRIPTION:Je vous propose un atelier conférence couches lavables le 19 juin de 15h à 17h à l’hôtel Ibis Futuroscope. \nGratuit sur inscription \nparking gratuit \n 
URL:https://mavaliseecolo.com/evenement/atelier-conference-couches-lavables-3/
LOCATION:ibis Futuroscope\, 2\, Avenue Thomas Edison\, 86360 chasseneuil du poitou
CATEGORIES:Ateliers,Conférences
END:VEVENT
END:VCALENDAR