BEGIN:VCALENDAR
VERSION:2.0
PRODID:-//Ma valise Ecolo - ECPv5.5.0//NONSGML v1.0//EN
CALSCALE:GREGORIAN
METHOD:PUBLISH
X-WR-CALNAME:Ma valise Ecolo
X-ORIGINAL-URL:https://mavaliseecolo.com
X-WR-CALDESC:évènements pour Ma valise Ecolo
BEGIN:VTIMEZONE
TZID:Europe/Paris
BEGIN:DAYLIGHT
TZOFFSETFROM:+0100
TZOFFSETTO:+0200
TZNAME:CEST
DTSTART:20210328T010000
END:DAYLIGHT
BEGIN:STANDARD
TZOFFSETFROM:+0200
TZOFFSETTO:+0100
TZNAME:CET
DTSTART:20211031T010000
END:STANDARD
END:VTIMEZONE
BEGIN:VEVENT
DTSTART;TZID=Europe/Paris:20210617T093000
DTEND;TZID=Europe/Paris:20210617T110000
DTSTAMP:20260424T212930
CREATED:20200709T131910Z
LAST-MODIFIED:20210529T065417Z
UID:1632-1623922200-1623927600@mavaliseecolo.com
SUMMARY:atelier enfants au ram
DESCRIPTION:
URL:https://mavaliseecolo.com/evenement/atelier-enfants-au-ram-12/
LOCATION:Cissé
CATEGORIES:Ateliers
ATTACH;FMTTYPE=image/jpeg:https://mavaliseecolo.com/wp-content/uploads/2020/07/20190717_183609-scaled.jpg
END:VEVENT
BEGIN:VEVENT
DTSTART;TZID=Europe/Paris:20210617T140000
DTEND;TZID=Europe/Paris:20210617T160000
DTSTAMP:20260424T212930
CREATED:20210506T135220Z
LAST-MODIFIED:20210507T132950Z
UID:1855-1623938400-1623945600@mavaliseecolo.com
SUMMARY:Atelier Jouer sans dépenser
DESCRIPTION:Atelier Jouer sans dépenser au centre d’animation de Beaulieu Poitiers \nC’est facile et économique et amusant \nInscription auprès de Marie-Françoise PASQUIER au 0549448049 \nGratuit   jeudi 17 juin de 14h à 16h
URL:https://mavaliseecolo.com/evenement/atelier-jouer-sans-depenser/
LOCATION:Poitiers\, 10 Boulevard Savari 86000 Poitiers\, Poitiers\, 86000
CATEGORIES:Ateliers
ATTACH;FMTTYPE=image/jpeg:https://mavaliseecolo.com/wp-content/uploads/2020/07/la-créativité-cest-lintelligence-qui-samuse-citation-einstein.jpg
END:VEVENT
END:VCALENDAR