BEGIN:VCALENDAR
VERSION:2.0
PRODID:-//Ma valise Ecolo - ECPv5.5.0//NONSGML v1.0//EN
CALSCALE:GREGORIAN
METHOD:PUBLISH
X-WR-CALNAME:Ma valise Ecolo
X-ORIGINAL-URL:https://mavaliseecolo.com
X-WR-CALDESC:évènements pour Ma valise Ecolo
BEGIN:VTIMEZONE
TZID:Europe/Paris
BEGIN:DAYLIGHT
TZOFFSETFROM:+0100
TZOFFSETTO:+0200
TZNAME:CEST
DTSTART:20210328T010000
END:DAYLIGHT
BEGIN:STANDARD
TZOFFSETFROM:+0200
TZOFFSETTO:+0100
TZNAME:CET
DTSTART:20211031T010000
END:STANDARD
END:VTIMEZONE
BEGIN:VEVENT
DTSTART;VALUE=DATE:20210605
DTEND;VALUE=DATE:20210606
DTSTAMP:20260424T212913
CREATED:20210507T132011Z
LAST-MODIFIED:20210510T143613Z
UID:1857-1622851200-1622937599@mavaliseecolo.com
SUMMARY:santé verte maternité
DESCRIPTION:Journée de sensibilisation avec le Fief de Grimoire de Poitiers ouvert à tous \nSanté verte accueil de bébé dans un environnement sain\, écologique et économique \nVenez me rencontrer et échanger tout le long de la journée \ngratuit dans les règles sanitaires actuelles inscription obligatoire auprès de Doctolib \n 
URL:https://mavaliseecolo.com/evenement/sante-verte-maternite/
LOCATION:Poitiers\, 4\, route de la Saulaie\, Poitiers\, 86000
CATEGORIES:Ateliers
ATTACH;FMTTYPE=image/jpeg:https://mavaliseecolo.com/wp-content/uploads/2021/05/Affiche-JSV-VF-scaled.jpg
END:VEVENT
END:VCALENDAR