BEGIN:VCALENDAR
VERSION:2.0
PRODID:-//Ma valise Ecolo - ECPv5.5.0//NONSGML v1.0//EN
CALSCALE:GREGORIAN
METHOD:PUBLISH
X-WR-CALNAME:Ma valise Ecolo
X-ORIGINAL-URL:https://mavaliseecolo.com
X-WR-CALDESC:évènements pour Ma valise Ecolo
BEGIN:VTIMEZONE
TZID:Europe/Paris
BEGIN:DAYLIGHT
TZOFFSETFROM:+0100
TZOFFSETTO:+0200
TZNAME:CEST
DTSTART:20220327T010000
END:DAYLIGHT
BEGIN:STANDARD
TZOFFSETFROM:+0200
TZOFFSETTO:+0100
TZNAME:CET
DTSTART:20221030T010000
END:STANDARD
END:VTIMEZONE
BEGIN:VEVENT
DTSTART;TZID=Europe/Paris:20220907T080000
DTEND;TZID=Europe/Paris:20220908T170000
DTSTAMP:20260423T130905
CREATED:20220722T090225Z
LAST-MODIFIED:20220722T090225Z
UID:2222-1662537600-1662656400@mavaliseecolo.com
SUMMARY:Jury Iperia
DESCRIPTION:
URL:https://mavaliseecolo.com/evenement/jury-iperia-7/
ATTACH;FMTTYPE=image/jpeg:https://mavaliseecolo.com/wp-content/uploads/2022/02/quiz-jury-competition-judge-group-sitting-at-table-and-show-opinion-scorecards-vector-illustration-competition-jury-with-stars-rating-2CPHT3J.jpg
END:VEVENT
END:VCALENDAR