BEGIN:VCALENDAR
VERSION:2.0
PRODID:-//Ma valise Ecolo - ECPv5.5.0//NONSGML v1.0//EN
CALSCALE:GREGORIAN
METHOD:PUBLISH
X-WR-CALNAME:Ma valise Ecolo
X-ORIGINAL-URL:https://mavaliseecolo.com
X-WR-CALDESC:évènements pour Ma valise Ecolo
BEGIN:VTIMEZONE
TZID:Europe/Paris
BEGIN:DAYLIGHT
TZOFFSETFROM:+0100
TZOFFSETTO:+0200
TZNAME:CEST
DTSTART:20220327T010000
END:DAYLIGHT
BEGIN:STANDARD
TZOFFSETFROM:+0200
TZOFFSETTO:+0100
TZNAME:CET
DTSTART:20221030T010000
END:STANDARD
END:VTIMEZONE
BEGIN:VEVENT
DTSTART;TZID=Europe/Paris:20220729T180000
DTEND;TZID=Europe/Paris:20220729T200000
DTSTAMP:20260423T222247
CREATED:20220702T092612Z
LAST-MODIFIED:20220702T092612Z
UID:2202-1659117600-1659124800@mavaliseecolo.com
SUMMARY:atelier Nesting
DESCRIPTION:à la bibliothèque de Chenevelles atelier sur la santé environnementale \ntrouver les produits néfastes pour la santé et réduire les perturbateurs endocriniens (hormonaux)
URL:https://mavaliseecolo.com/evenement/atelier-nesting/
LOCATION:CHENEVELLES
CATEGORIES:Ateliers
END:VEVENT
END:VCALENDAR