BEGIN:VCALENDAR
VERSION:2.0
PRODID:-//Ma valise Ecolo - ECPv5.5.0//NONSGML v1.0//EN
CALSCALE:GREGORIAN
METHOD:PUBLISH
X-WR-CALNAME:Ma valise Ecolo
X-ORIGINAL-URL:https://mavaliseecolo.com
X-WR-CALDESC:évènements pour Ma valise Ecolo
BEGIN:VTIMEZONE
TZID:Europe/Paris
BEGIN:DAYLIGHT
TZOFFSETFROM:+0100
TZOFFSETTO:+0200
TZNAME:CEST
DTSTART:20210328T010000
END:DAYLIGHT
BEGIN:STANDARD
TZOFFSETFROM:+0200
TZOFFSETTO:+0100
TZNAME:CET
DTSTART:20211031T010000
END:STANDARD
END:VTIMEZONE
BEGIN:VEVENT
DTSTART;TZID=Europe/Paris:20210429T093000
DTEND;TZID=Europe/Paris:20210429T110000
DTSTAMP:20260422T125234
CREATED:20200709T131550Z
LAST-MODIFIED:20210210T090735Z
UID:1629-1619688600-1619694000@mavaliseecolo.com
SUMMARY:atelier enfants au ram
DESCRIPTION:
URL:https://mavaliseecolo.com/evenement/atelier-enfants-au-ram-9/
LOCATION:Cissé
ATTACH;FMTTYPE=image/jpeg:https://mavaliseecolo.com/wp-content/uploads/2020/07/20190717_183609-scaled.jpg
END:VEVENT
END:VCALENDAR